BEGIN:VCALENDAR
VERSION:2.0
METHOD:PUBLISH
X-WR-CALNAME;VALUE=TEXT:
PRODID:-//Drupal iCal API//EN
BEGIN:VEVENT
2025-10-22 11:30:00 AEDT
2025-10-23 01:00:00 AEDT
DTSTART:20251022T123000Z
DTEND:20251022T140000Z
SUMMARY:Student Chamber Music Concert
UID:272bad69-2110-4ff4-9030-3986ecce9352
URL:https://cass.anu.edu.au/student-chamber-music-concert-3
END:VEVENT
END:VCALENDAR
